BEGIN:VCALENDAR
VERSION:2.0
PRODID:-//The Myositis Association - ECPv6.15.19//NONSGML v1.0//EN
CALSCALE:GREGORIAN
METHOD:PUBLISH
X-WR-CALNAME:The Myositis Association
X-ORIGINAL-URL:https://300.myositis.org
X-WR-CALDESC:Events for The Myositis Association
REFRESH-INTERVAL;VALUE=DURATION:PT1H
X-Robots-Tag:noindex
X-PUBLISHED-TTL:PT1H
BEGIN:VTIMEZONE
TZID:America/New_York
BEGIN:DAYLIGHT
TZOFFSETFROM:-0500
TZOFFSETTO:-0400
TZNAME:EDT
DTSTART:20250309T070000
END:DAYLIGHT
BEGIN:STANDARD
TZOFFSETFROM:-0400
TZOFFSETTO:-0500
TZNAME:EST
DTSTART:20251102T060000
END:STANDARD
BEGIN:DAYLIGHT
TZOFFSETFROM:-0500
TZOFFSETTO:-0400
TZNAME:EDT
DTSTART:20260308T070000
END:DAYLIGHT
BEGIN:STANDARD
TZOFFSETFROM:-0400
TZOFFSETTO:-0500
TZNAME:EST
DTSTART:20261101T060000
END:STANDARD
BEGIN:DAYLIGHT
TZOFFSETFROM:-0500
TZOFFSETTO:-0400
TZNAME:EDT
DTSTART:20270314T070000
END:DAYLIGHT
BEGIN:STANDARD
TZOFFSETFROM:-0400
TZOFFSETTO:-0500
TZNAME:EST
DTSTART:20271107T060000
END:STANDARD
END:VTIMEZONE
BEGIN:VEVENT
DTSTART;VALUE=DATE:20260422
DTEND;VALUE=DATE:20260506
DTSTAMP:20260422T104348
CREATED:20260421T201009Z
LAST-MODIFIED:20260422T134221Z
UID:10003431-1776816000-1778025599@300.myositis.org
SUMMARY:AVON Supports Myositis Awareness
DESCRIPTION:Shop for makeup\, skin care\, fragrance\, and more — while supporting TMA’s important mission during Myositis Awareness Month! \n Support TMA \n  \nThe Avon Fundraising program helps charities like TMA connect with an Avon Ambassador to raise money for a worthy cause. Kathy Eichenbrenner\, an Avon Ambassador in Charlotte\, NC\, is promoting this Avon fundraiser for Myositis Awareness Month! The Avon fundraiser extends until May 5\, 2026\, and coincides with the TMA Open golf tournament\, which also benefits TMA’s efforts increase myositis awareness among the public. \n100% of Kathy’s Avon profits raised during this two-week Avon campaign will go towards TMA. A donation goal of $500 has been set. Please help us reach this goal!
URL:https://300.myositis.org/event/avon-supports-myositis-awareness/
CATEGORIES:TMA Fundraiser
ATTACH;FMTTYPE=image/png:https://300.myositis.org/wp-content/uploads/2026/04/AVON-Fundraiser-MAM-2026-1600-x-500-220-x-220-px.png
ORGANIZER;CN="Kathy Eichenbrenner":MAILTO:kathyforavon@att.net
LOCATION:https://www.avon.com/fundraiser/TMA?rep=keichenbrenner 
END:VEVENT
END:VCALENDAR